
BEGIN:VCALENDAR
VERSION:2.0
PRODID:-//The Eating Clubs of Princeton University - ECPv6.15.15//NONSGML v1.0//EN
CALSCALE:GREGORIAN
METHOD:PUBLISH
X-ORIGINAL-URL:https://princetoneatingclubs.org
X-WR-CALDESC:Events for The Eating Clubs of Princeton University
REFRESH-INTERVAL;VALUE=DURATION:PT1H
X-Robots-Tag:noindex
X-PUBLISHED-TTL:PT1H
BEGIN:VTIMEZONE
TZID:America/New_York
BEGIN:DAYLIGHT
TZOFFSETFROM:-0500
TZOFFSETTO:-0400
TZNAME:EDT
DTSTART:20120311T070000
END:DAYLIGHT
BEGIN:STANDARD
TZOFFSETFROM:-0400
TZOFFSETTO:-0500
TZNAME:EST
DTSTART:20121104T060000
END:STANDARD
BEGIN:DAYLIGHT
TZOFFSETFROM:-0500
TZOFFSETTO:-0400
TZNAME:EDT
DTSTART:20130310T070000
END:DAYLIGHT
BEGIN:STANDARD
TZOFFSETFROM:-0400
TZOFFSETTO:-0500
TZNAME:EST
DTSTART:20131103T060000
END:STANDARD
BEGIN:DAYLIGHT
TZOFFSETFROM:-0500
TZOFFSETTO:-0400
TZNAME:EDT
DTSTART:20140309T070000
END:DAYLIGHT
BEGIN:STANDARD
TZOFFSETFROM:-0400
TZOFFSETTO:-0500
TZNAME:EST
DTSTART:20141102T060000
END:STANDARD
END:VTIMEZONE
BEGIN:VEVENT
DTSTART;TZID=America/New_York:20131113T220000
DTEND;TZID=America/New_York:20131114T020000
DTSTAMP:20260420T052542
CREATED:20131112T015123Z
LAST-MODIFIED:20131112T015123Z
UID:1792-1384380000-1384394400@princetoneatingclubs.org
SUMMARY:Sophomore Night @ UCC
DESCRIPTION:
URL:https://princetoneatingclubs.org/event/sophomore-night-ucc/
LOCATION:University Cottage Club
CATEGORIES:Sophomores
END:VEVENT
END:VCALENDAR